BEGIN:VCALENDAR
VERSION:2.0
PRODID:-//www.schulen-seedorf.ch//NONSGML kigkonsult.se iCalcreator 2.22//
CALSCALE:GREGORIAN
METHOD:PUBLISH
X-WR-TIMEZONE:Europe/Berlin
BEGIN:VEVENT
UID:20260420T181615CEST-7336GmPPdE@www.schulen-seedorf.ch
DTSTAMP:20260420T161615Z
DESCRIPTION:Klicken Sie auf den folgenden Link\, um weitere Informationen z
 ur Veranstaltung zu erhalten:\nhttp://www.schulen-seedorf.ch/de/veranstalt
 ungen/detail/detail.php?i=502
DTSTART:20260912T100000
DTEND:20260912T160000
LOCATION:Mehrzweckhalle 
SUMMARY:10. SEETRÖMÄ Seedorfer-Trödler-Märit 2026
END:VEVENT
END:VCALENDAR
