BEGIN:VCALENDAR
VERSION:2.0
PRODID:-//www.schulen-seedorf.ch//NONSGML kigkonsult.se iCalcreator 2.22//
CALSCALE:GREGORIAN
METHOD:PUBLISH
X-WR-TIMEZONE:Europe/Berlin
BEGIN:VEVENT
UID:20260420T181614CEST-72840vojR8@www.schulen-seedorf.ch
DTSTAMP:20260420T161614Z
DESCRIPTION:Klicken Sie auf den folgenden Link\, um weitere Informationen z
 ur Veranstaltung zu erhalten:\nhttp://www.schulen-seedorf.ch/de/veranstalt
 ungen/detail/detail.php?i=500
DTSTART:20260426T140000
DTEND:20260426T160000
LOCATION:Dachstock\, Gemeindeverwaltung
SUMMARY:Dorfmuseum Seedorf offen
END:VEVENT
END:VCALENDAR
