BEGIN:VCALENDAR
VERSION:2.0
PRODID:-//www.schulen-seedorf.ch//NONSGML kigkonsult.se iCalcreator 2.22//
CALSCALE:GREGORIAN
METHOD:PUBLISH
X-WR-TIMEZONE:Europe/Berlin
BEGIN:VEVENT
UID:20260420T181614CEST-2793OwOE7s@www.schulen-seedorf.ch
DTSTAMP:20260420T161614Z
DESCRIPTION:Klicken Sie auf den folgenden Link\, um weitere Informationen z
 ur Veranstaltung zu erhalten:\nhttp://www.schulen-seedorf.ch/de/veranstalt
 ungen/detail/detail.php?i=499
DTSTART:20260429T190000
DTEND:20260429T210000
LOCATION:Klostersaal\, Frienisberg - üses Dorf
SUMMARY:Ordnung schaffen ist mehr als Aufräumen
END:VEVENT
END:VCALENDAR
